BEGIN:VCALENDAR
VERSION:2.0
PRODID:-//Stiftung Diakoniewerk Kropp - ECPv6.15.20//NONSGML v1.0//EN
CALSCALE:GREGORIAN
METHOD:PUBLISH
X-ORIGINAL-URL:https://www.diakonie-kropp.de
X-WR-CALDESC:Veranstaltungen für Stiftung Diakoniewerk Kropp
REFRESH-INTERVAL;VALUE=DURATION:PT1H
X-Robots-Tag:noindex
X-PUBLISHED-TTL:PT1H
BEGIN:VTIMEZONE
TZID:Europe/Berlin
BEGIN:DAYLIGHT
TZOFFSETFROM:+0100
TZOFFSETTO:+0200
TZNAME:CEST
DTSTART:20220327T010000
END:DAYLIGHT
BEGIN:STANDARD
TZOFFSETFROM:+0200
TZOFFSETTO:+0100
TZNAME:CET
DTSTART:20221030T010000
END:STANDARD
BEGIN:DAYLIGHT
TZOFFSETFROM:+0100
TZOFFSETTO:+0200
TZNAME:CEST
DTSTART:20230326T010000
END:DAYLIGHT
BEGIN:STANDARD
TZOFFSETFROM:+0200
TZOFFSETTO:+0100
TZNAME:CET
DTSTART:20231029T010000
END:STANDARD
BEGIN:DAYLIGHT
TZOFFSETFROM:+0100
TZOFFSETTO:+0200
TZNAME:CEST
DTSTART:20240331T010000
END:DAYLIGHT
BEGIN:STANDARD
TZOFFSETFROM:+0200
TZOFFSETTO:+0100
TZNAME:CET
DTSTART:20241027T010000
END:STANDARD
END:VTIMEZONE
BEGIN:VEVENT
DTSTART;TZID=Europe/Berlin:20230414T193000
DTEND;TZID=Europe/Berlin:20230414T210000
DTSTAMP:20260420T112956
CREATED:20230308T083831Z
LAST-MODIFIED:20230413T092945Z
UID:8555-1681500600-1681506000@www.diakonie-kropp.de
SUMMARY:Kropp in Concert mit Hüttenfolk
DESCRIPTION:Es gibt was zu sehen und zu hören! \n„Kropp in Concert“ startet in ein neues Musikjahr und bringt seit 2010 Menschen mit und ohne Behinderung bei guter Musik und in lockerer Atmosphäre entspannt und vergnügt zusammen – am 14. April im inklusiven Kulturcafé Strandkorb!  \nVorbei ist die Zeit der trüben Tassen! Der Staub auf den Instrumenten hatte doch eh keine echte Chance. Denn wo die Coverkapelle Tante Hedwig am Wirbeln ist\, kommt so richtig Musiklaune auf. Frontmann Tommi Tulpe\, sein Langzeit-Bassbuddy Piet Jensen und Volker Carstens an den Drums sind nämlich wieder auf Tour durch die norddeutsche Tiefebene mit Bock auf Bühne und Publikum. \nClassic-Rock-\, Pop & Country\, Liedermachereskes und mehr stehen auf der Playlist der Coverkapelle Tante Hedwig. Eine ausgebuffte Songauswahl mit echten Highlights neben der amtlichen Coverhitparade. Gespielt wird\, was Spaß macht\, leidenschaftlich und im hedwigschen Akustiksound – in Handarbeit\, versteht sich und doch alles ohne Kittelschürze. \nNach kurzfristigem Ausfall der ursprünglich gebuchten Band „Hüttenfolk“ freuen wir uns\, die Coverband „Tante Hedwig“ für den Konzertabend am Freitag\, 14. April im Kulturcafé Strandkorb (Hauptstraße 14\, Kropp)  gewinnen zu können. \nDas Konzert beginnt Freitag\, den 14. April 2023 auf der Strandkorbbühne um 19:30 Uhr – Einlass ab 19:00 Uhr. \nDer Eintritt ist grundsätzlich frei. Um Spenden wird sehr herzlich gebeten. \n„Kropp in Concert“ wird unterstützt von der NOSPA-Kulturstiftung Schleswig-Flensburg.​
URL:https://www.diakonie-kropp.de/event/kropp-in-concert-mit-huettenfolk/
LOCATION:Kulturcafé Strandkorb\, Hauptstraße 14\, Kropp\, 24848
CATEGORIES:Kropp in Concert
ATTACH;FMTTYPE=image/webp:https://www.diakonie-kropp.de/wp-content/uploads/2023/03/Pressefoto-TANTE-HEDWIG-alleRechteTJohannsen.webp
GEO:54.410423;9.5139022
X-APPLE-STRUCTURED-LOCATION;VALUE=URI;X-ADDRESS=Kulturcafé Strandkorb Hauptstraße 14 Kropp 24848;X-APPLE-RADIUS=500;X-TITLE=Hauptstraße 14:geo:9.5139022,54.410423
END:VEVENT
END:VCALENDAR