BEGIN:VCALENDAR
VERSION:2.0
PRODID:-//Stiftung Diakoniewerk Kropp - ECPv6.15.20//NONSGML v1.0//EN
CALSCALE:GREGORIAN
METHOD:PUBLISH
X-WR-CALNAME:Stiftung Diakoniewerk Kropp
X-ORIGINAL-URL:https://www.diakonie-kropp.de
X-WR-CALDESC:Veranstaltungen für Stiftung Diakoniewerk Kropp
REFRESH-INTERVAL;VALUE=DURATION:PT1H
X-Robots-Tag:noindex
X-PUBLISHED-TTL:PT1H
BEGIN:VTIMEZONE
TZID:Europe/Berlin
BEGIN:DAYLIGHT
TZOFFSETFROM:+0100
TZOFFSETTO:+0200
TZNAME:CEST
DTSTART:20220327T010000
END:DAYLIGHT
BEGIN:STANDARD
TZOFFSETFROM:+0200
TZOFFSETTO:+0100
TZNAME:CET
DTSTART:20221030T010000
END:STANDARD
BEGIN:DAYLIGHT
TZOFFSETFROM:+0100
TZOFFSETTO:+0200
TZNAME:CEST
DTSTART:20230326T010000
END:DAYLIGHT
BEGIN:STANDARD
TZOFFSETFROM:+0200
TZOFFSETTO:+0100
TZNAME:CET
DTSTART:20231029T010000
END:STANDARD
BEGIN:DAYLIGHT
TZOFFSETFROM:+0100
TZOFFSETTO:+0200
TZNAME:CEST
DTSTART:20240331T010000
END:DAYLIGHT
BEGIN:STANDARD
TZOFFSETFROM:+0200
TZOFFSETTO:+0100
TZNAME:CET
DTSTART:20241027T010000
END:STANDARD
END:VTIMEZONE
BEGIN:VEVENT
DTSTART;TZID=Europe/Berlin:20230505T193000
DTEND;TZID=Europe/Berlin:20230505T210000
DTSTAMP:20260420T125031
CREATED:20230314T091333Z
LAST-MODIFIED:20230314T091333Z
UID:8661-1683315000-1683320400@www.diakonie-kropp.de
SUMMARY:Kropp in Concert mit Nordic Sunset
DESCRIPTION:Es gibt was zu sehen und zu hören! \n„Kropp in Concert“ startet in ein neues Musikjahr und bringt seit 2010 Menschen mit und ohne Behinderung bei guter Musik und in lockerer Atmosphäre entspannt und vergnügt zusammen. \nWann haben Sie das letzte Mal magische Trollsongs von den Färöer-Inseln oder samische Joiks aus Lappland gehört?\nNordic Sunset wird uns bei ihrem Auftritt in diese besondere nordische Welt mitnehmen\, wobei nicht nur skandinavische Lieder in den Originalsprachen erklingen\, sondern auch fetzige Songs aus „Plattdeutschland“ oder Evergreens zum Mitsingen und Werke aus Weltmusik\, Klezmer und Klassik. Kurzum – es wird ein musikalischer Ausflug kreuz und quer durch Stile\, Länder und Zeiten.\nGela und Dedl werden mit ihren ca. 10 verschiedenen Instrumenten ein Klangerlebnis präsentieren\, das abwechslungsreicher nicht sein kann. Durch die verschiedenen Gitarren\, Klarinette\, Flöten\, Akkordeon\, Djembé\, Saxophon und viel Gesang ist ein Konzert von Nordic Sunset wie eine erfrischende „musikalische Kneippkur“\, eine Einladung zum Genießen\, Schmunzeln\, Lachen\, Erinnern\, Träumen\, Nachdenken und Besinnen – lassen Sie sich berühren!\nWer nicht mehr bis zum Auftritt warten möchte\, kann jetzt sofort schon stöbern: Hörproben und Infos finden sich auf der Nordic Sunset Website unter:   www.nordic-sunset.de \nDas Konzert beginnt Freitag\, den 05. Mai 2023 auf der Strandkorbbühne um 19:30 Uhr – Einlass ab 19:00 Uhr. \nDer Eintritt ist grundsätzlich frei. Um Spenden wird sehr herzlich gebeten. \n  \n„Kropp in Concert“ wird unterstützt von der NOSPA-Kulturstiftung Schleswig-Flensburg.​
URL:https://www.diakonie-kropp.de/event/kropp-in-concert-mit-nordic-sunset/
LOCATION:Kulturcafé Strandkorb\, Hauptstraße 14\, Kropp\, 24848
CATEGORIES:Kropp in Concert
ATTACH;FMTTYPE=image/jpeg:https://www.diakonie-kropp.de/wp-content/uploads/2023/03/Nordic-Sunset-Pressebild-2023.jpg
GEO:54.410423;9.5139022
X-APPLE-STRUCTURED-LOCATION;VALUE=URI;X-ADDRESS=Kulturcafé Strandkorb Hauptstraße 14 Kropp 24848;X-APPLE-RADIUS=500;X-TITLE=Hauptstraße 14:geo:9.5139022,54.410423
END:VEVENT
BEGIN:VEVENT
DTSTART;TZID=Europe/Berlin:20230515T100000
DTEND;TZID=Europe/Berlin:20230515T160000
DTSTAMP:20260420T125031
CREATED:20230502T081458Z
LAST-MODIFIED:20230505T063535Z
UID:8921-1684144800-1684166400@www.diakonie-kropp.de
SUMMARY:"Sargbar" meets Schleswig
DESCRIPTION:Offene Gesprächs-/Fragerunde zum Leben\, Sterben und dem Tod. \nDie Veranstaltung findet vom 15. bis 17. Mai 2023 in der Innenstadt in Schleswig von 10:00 bis 16:00 Uhr statt. \n15.05.2023: Auf dem Capitolplatz\n16.05.2023: Vor dem alten Hertie Gelände und abends (18:00 Uhr) im Kultur L\n17.05.2023: Auf dem Capitolplatz \n„Wir\, Death Positiv\, sind Verena und Nicole und laden zum Gespräch. Spielerisch. An einer Sargbar lehnt Mensch sich gerne an. Nähert sich ihr neugierig oder sucht etwas für das leibliche Wohl. Es ist für alles gesorgt. Wir sind geschult\, bringen Erfahrung mit und sind für jede Begegnung bereit.“
URL:https://www.diakonie-kropp.de/event/sargbar-meets-schleswig/2023-05-15/
LOCATION:Innenstadt Schleswig\, Schleswig\, 24837
ATTACH;FMTTYPE=image/jpeg:https://www.diakonie-kropp.de/wp-content/uploads/2023/05/sargbar-002.jpg
GEO:54.5223028;9.5661514
END:VEVENT
END:VCALENDAR