BEGIN:VCALENDAR
VERSION:2.0
PRODID:-//Stiftung Diakoniewerk Kropp - ECPv6.15.20//NONSGML v1.0//EN
CALSCALE:GREGORIAN
METHOD:PUBLISH
X-ORIGINAL-URL:https://www.diakonie-kropp.de
X-WR-CALDESC:Veranstaltungen für Stiftung Diakoniewerk Kropp
REFRESH-INTERVAL;VALUE=DURATION:PT1H
X-Robots-Tag:noindex
X-PUBLISHED-TTL:PT1H
BEGIN:VTIMEZONE
TZID:Europe/Berlin
BEGIN:DAYLIGHT
TZOFFSETFROM:+0100
TZOFFSETTO:+0200
TZNAME:CEST
DTSTART:20220327T010000
END:DAYLIGHT
BEGIN:STANDARD
TZOFFSETFROM:+0200
TZOFFSETTO:+0100
TZNAME:CET
DTSTART:20221030T010000
END:STANDARD
BEGIN:DAYLIGHT
TZOFFSETFROM:+0100
TZOFFSETTO:+0200
TZNAME:CEST
DTSTART:20230326T010000
END:DAYLIGHT
BEGIN:STANDARD
TZOFFSETFROM:+0200
TZOFFSETTO:+0100
TZNAME:CET
DTSTART:20231029T010000
END:STANDARD
BEGIN:DAYLIGHT
TZOFFSETFROM:+0100
TZOFFSETTO:+0200
TZNAME:CEST
DTSTART:20240331T010000
END:DAYLIGHT
BEGIN:STANDARD
TZOFFSETFROM:+0200
TZOFFSETTO:+0100
TZNAME:CET
DTSTART:20241027T010000
END:STANDARD
END:VTIMEZONE
BEGIN:VEVENT
DTSTART;TZID=Europe/Berlin:20230805T140000
DTEND;TZID=Europe/Berlin:20230805T170000
DTSTAMP:20260420T164839
CREATED:20230717T093355Z
LAST-MODIFIED:20230717T093519Z
UID:9377-1691244000-1691254800@www.diakonie-kropp.de
SUMMARY:Sommerfest im Seniorenhaus Jevenstedt
DESCRIPTION:Sommerfest im Seniorenhaus Jevenstedt! \nHerzliche Einladung zum Sommerfest im Seniorenhaus Jevenstedt! \nMotto: Jahrmarkt \nProgramm: Dosenwerfen\, Tombola\, Kaffee & Kuchen\, Grillbuffet und viele Überraschungen! \nDas Fest findet am Samstag\, den 05. August 2023 von 14:00-17:00 Uhr statt.
URL:https://www.diakonie-kropp.de/event/sommerfest-im-seniorenhaus-jevenstedt/
LOCATION:Seniorenhaus Jevenstedt\, Am Altenheim 1\, Jevenstedt\, 24808
CATEGORIES:Feste
ATTACH;FMTTYPE=image/png:https://www.diakonie-kropp.de/wp-content/uploads/2023/07/sommerfest.png
GEO:54.2336739;9.6719773
X-APPLE-STRUCTURED-LOCATION;VALUE=URI;X-ADDRESS=Seniorenhaus Jevenstedt Am Altenheim 1 Jevenstedt 24808;X-APPLE-RADIUS=500;X-TITLE=Am Altenheim 1:geo:9.6719773,54.2336739
END:VEVENT
BEGIN:VEVENT
DTSTART;TZID=Europe/Berlin:20230825T193000
DTEND;TZID=Europe/Berlin:20230825T213000
DTSTAMP:20260420T164839
CREATED:20230319T082538Z
LAST-MODIFIED:20230319T082538Z
UID:8693-1692991800-1692999000@www.diakonie-kropp.de
SUMMARY:Kropp in Concert 4. Open Stage
DESCRIPTION:Es gibt was zu sehen und zu hören! \n„Kropp in Concert“ startet in ein neues Musikjahr und bringt seit 2010 Menschen mit und ohne Behinderung bei guter Musik und in lockerer Atmosphäre entspannt und vergnügt zusammen. \nDie Bühne für Dein Talent! \nOpen Stage im Strandkorb.\nDie Startrampe für Dein musikalisches Talent. Die Bühne für Deinen Auftritt. Bei uns kannst Du Dein musikalisches Können unter Beweis stellen. Ob als Band oder solo\, ob Newcomer oder alte Hasen.\nInteressierte Musiker melden sich an unter\nder Email: t.johannsen@diakonie-kropp.de \nDas Konzert beginnt Freitag\, den 25. August 2023 auf der Strandkorbbühne um 19:30 Uhr – Einlass ab 19:00 Uhr. \nDer Eintritt ist grundsätzlich frei. Um Spenden wird sehr herzlich gebeten.\n  \n„Kropp in Concert“ wird unterstützt von der NOSPA-Kulturstiftung Schleswig-Flensburg.​
URL:https://www.diakonie-kropp.de/event/kropp-in-concert-4-open-stage/
LOCATION:Kulturcafé Strandkorb\, Hauptstraße 14\, Kropp\, 24848
CATEGORIES:Kropp in Concert
ATTACH;FMTTYPE=image/jpeg:https://www.diakonie-kropp.de/wp-content/uploads/2023/03/Open-Stage.jpg
GEO:54.410423;9.5139022
X-APPLE-STRUCTURED-LOCATION;VALUE=URI;X-ADDRESS=Kulturcafé Strandkorb Hauptstraße 14 Kropp 24848;X-APPLE-RADIUS=500;X-TITLE=Hauptstraße 14:geo:9.5139022,54.410423
END:VEVENT
END:VCALENDAR