BEGIN:VCALENDAR
VERSION:2.0
PRODID:-//Stiftung Diakoniewerk Kropp - ECPv6.15.20//NONSGML v1.0//EN
CALSCALE:GREGORIAN
METHOD:PUBLISH
X-ORIGINAL-URL:https://www.diakonie-kropp.de
X-WR-CALDESC:Veranstaltungen für Stiftung Diakoniewerk Kropp
REFRESH-INTERVAL;VALUE=DURATION:PT1H
X-Robots-Tag:noindex
X-PUBLISHED-TTL:PT1H
BEGIN:VTIMEZONE
TZID:Europe/Berlin
BEGIN:DAYLIGHT
TZOFFSETFROM:+0100
TZOFFSETTO:+0200
TZNAME:CEST
DTSTART:20220327T010000
END:DAYLIGHT
BEGIN:STANDARD
TZOFFSETFROM:+0200
TZOFFSETTO:+0100
TZNAME:CET
DTSTART:20221030T010000
END:STANDARD
BEGIN:DAYLIGHT
TZOFFSETFROM:+0100
TZOFFSETTO:+0200
TZNAME:CEST
DTSTART:20230326T010000
END:DAYLIGHT
BEGIN:STANDARD
TZOFFSETFROM:+0200
TZOFFSETTO:+0100
TZNAME:CET
DTSTART:20231029T010000
END:STANDARD
BEGIN:DAYLIGHT
TZOFFSETFROM:+0100
TZOFFSETTO:+0200
TZNAME:CEST
DTSTART:20240331T010000
END:DAYLIGHT
BEGIN:STANDARD
TZOFFSETFROM:+0200
TZOFFSETTO:+0100
TZNAME:CET
DTSTART:20241027T010000
END:STANDARD
END:VTIMEZONE
BEGIN:VEVENT
DTSTART;TZID=Europe/Berlin:20231001T150000
DTEND;TZID=Europe/Berlin:20231001T190000
DTSTAMP:20260420T192532
CREATED:20230908T092932Z
LAST-MODIFIED:20230908T094204Z
UID:9466-1696172400-1696186800@www.diakonie-kropp.de
SUMMARY:BOGA GEHT - Spendenlauf für das Petri Haus
DESCRIPTION:Spendenlauf zu Gunsten des Petri Hauses am 01.10.2023!  \nBis zum 29.09. können Sie sich bei Sinja Braun (sinjabraun@gmx.de) unter Angabe der gewünschten Distanz (10 km oder 20 km) anmelden. \nDabei kommt es nicht darauf an\, wie schnell Sie sind und ob Sie joggen\, gehen oder schlendern – es geht darum\, gemeinsam etwas zu schaffen und Gutes zu tun. \nDie Startgebühr beträgt 10 Euro.
URL:https://www.diakonie-kropp.de/event/boga-geht-spendenlauf-hospiz-petri-haus/
ATTACH;FMTTYPE=image/jpeg:https://www.diakonie-kropp.de/wp-content/uploads/2023/09/1694095816036-1.jpg
END:VEVENT
BEGIN:VEVENT
DTSTART;TZID=Europe/Berlin:20231007T193000
DTEND;TZID=Europe/Berlin:20231007T213000
DTSTAMP:20260420T192532
CREATED:20230319T084032Z
LAST-MODIFIED:20230319T084032Z
UID:8697-1696707000-1696714200@www.diakonie-kropp.de
SUMMARY:Kropp in Concert mit Mischpoke
DESCRIPTION:Es gibt was zu sehen und zu hören! \n„Kropp in Concert“ startet in ein neues Musikjahr und bringt seit 2010 Menschen mit und ohne Behinderung bei guter Musik und in lockerer Atmosphäre entspannt und vergnügt zusammen. \nKropp in Concert mit MISCHPOKE – „Klezmer High Life“ \nMischpoke ist eine Hamburger Klezmerband\, die sich inzwischen ein europaweites Publikum erspielt hat. Und wer die spannungsgeladene Performance dieser fünf starken Künstlerpersönlichkeiten erlebt\, der spürt überdeutlich: Diese Band hat ihren eigenen Sound gefunden: »Klezmer High Life«!\nIhre Musik ist ein höchst abwechslungsreicher Mix aus traditionellen\, neu arrangierten und selbst komponierten Stücken\, bei dem aufs Schönste ein Miteinander der Genres zwischen Klezmer\, Jazz\, Tango\, Weltmusik und Klassik ausgelotet wird.\nOb kleine Bühnen oder großer Konzertsaal\, ob Hamburger Weinbistro\, internationale Festivals oder Berliner Philharmonie: Mit ihrem passionierten und hoch virtuosen Spiel entsteht jedes Mal diese kollektive Energie\, die Herz und Hüfte in Schwingung versetzt. \nDas Konzert beginnt Samstag\, den 07. Oktober 2023 im Haus Kana um 19:30 Uhr – Einlass ab 19:00 Uhr. \nDer Eintritt ist grundsätzlich frei. Um Spenden wird sehr herzlich gebeten.\n  \n„Kropp in Concert“ wird unterstützt von der NOSPA-Kulturstiftung Schleswig-Flensburg.​
URL:https://www.diakonie-kropp.de/event/kropp-in-concert-mit-mischpoke/
LOCATION:Haus Kana\, Johannesallee 1\, Kropp\, 24848
CATEGORIES:Kropp in Concert
ATTACH;FMTTYPE=image/jpeg:https://www.diakonie-kropp.de/wp-content/uploads/2023/03/Mischpoke.jpg
GEO:54.4100275;9.5153541
X-APPLE-STRUCTURED-LOCATION;VALUE=URI;X-ADDRESS=Haus Kana Johannesallee 1 Kropp 24848;X-APPLE-RADIUS=500;X-TITLE=Johannesallee 1:geo:9.5153541,54.4100275
END:VEVENT
BEGIN:VEVENT
DTSTART;TZID=Europe/Berlin:20231014T110000
DTEND;TZID=Europe/Berlin:20231014T160000
DTSTAMP:20260420T192532
CREATED:20230928T120237Z
LAST-MODIFIED:20230928T120237Z
UID:9524-1697281200-1697299200@www.diakonie-kropp.de
SUMMARY:Welthospiztag
DESCRIPTION:„Vom ERSTEN zum LETZTEN Mal im Leben!“ \n– Samstag\, 14. Oktober 2023 – 11.00-16.00 Uhr \n– Schloss Gottorf\, Räume der Stiftung Horn\, Schleswig \n– Parkmöglichkeiten vor dem Schloss\, Zufahrt über Windallee \n– Eintritt frei \nAblauf:\n11.00 Uhr: Beginn der Veranstaltung/Moderation: Jörg Rüping\n11.45 Uhr: Begrüßung und Grußworte\n12.00 Uhr: Vortrag Priv. Doz. Dr. Tilmann von Spiegel\, Vorsitzender Ethikkomitee WKK Heide: Selbstbestimmung bis zum Tod – ein Wunsch\, ein Ziel\, ein Recht?\n13.00 Uhr: Musik von Liedermacherin Kerstin Bogensee\n13.30 Uhr: Rollenspiel: ethische Fallbesprechung in der Praxis\n14.00 Uhr: Vortrag Anastasia Umrik: “Du bist in der Krise. Herzlichen Glückwunsch. Jetzt wird alles gut!”\n15.00 Uhr: Musik und Gesang von Vanessa Klein\n16.00 Uhr: Ende der Veranstaltung \nInformationsstände:\n– Petri Haus\, Hospiz im Garten\, Schleswig\n– Freundeskreis Hospizdienst e.V.\, Schleswig\n– Ambulanter Hospizdienst\, Schleswig\nSterbebegleitung\nKinder- und Jugendtrauerarbeit\nTrauerarbeit Erwachsene\nTrauerarbeit Suizid\n– Letzte Hilfe Deutschland\n– Palliativstation im Klinikum\, Schleswig\n– Der Wünschewagen\, Arbeiter Samariterbund\n– Büchergeschäft Bearnats\n– Hospiz- und Palliativverband Schleswig-Holstein e.V.\n– Kompetenzzentrum Demenz Schleswig-Holstein\n– Spezialisierte Ambulante Palliativversorgung\, Flensburg \nDie Veranstaltung findet am Samstag\, den 14. Oktober 2023 im Schloss Gottorf von 11.00-16.00 Uhr statt.
URL:https://www.diakonie-kropp.de/event/welthospiztag/
LOCATION:Schloss Gottorf
ATTACH;FMTTYPE=image/jpeg:https://www.diakonie-kropp.de/wp-content/uploads/2023/09/wht.jpg
END:VEVENT
END:VCALENDAR