BEGIN:VCALENDAR
VERSION:2.0
PRODID:-//Stiftung Diakoniewerk Kropp - ECPv6.15.20//NONSGML v1.0//EN
CALSCALE:GREGORIAN
METHOD:PUBLISH
X-WR-CALNAME:Stiftung Diakoniewerk Kropp
X-ORIGINAL-URL:https://www.diakonie-kropp.de
X-WR-CALDESC:Veranstaltungen für Stiftung Diakoniewerk Kropp
REFRESH-INTERVAL;VALUE=DURATION:PT1H
X-Robots-Tag:noindex
X-PUBLISHED-TTL:PT1H
BEGIN:VTIMEZONE
TZID:Europe/Berlin
BEGIN:DAYLIGHT
TZOFFSETFROM:+0100
TZOFFSETTO:+0200
TZNAME:CEST
DTSTART:20220327T010000
END:DAYLIGHT
BEGIN:STANDARD
TZOFFSETFROM:+0200
TZOFFSETTO:+0100
TZNAME:CET
DTSTART:20221030T010000
END:STANDARD
BEGIN:DAYLIGHT
TZOFFSETFROM:+0100
TZOFFSETTO:+0200
TZNAME:CEST
DTSTART:20230326T010000
END:DAYLIGHT
BEGIN:STANDARD
TZOFFSETFROM:+0200
TZOFFSETTO:+0100
TZNAME:CET
DTSTART:20231029T010000
END:STANDARD
BEGIN:DAYLIGHT
TZOFFSETFROM:+0100
TZOFFSETTO:+0200
TZNAME:CEST
DTSTART:20240331T010000
END:DAYLIGHT
BEGIN:STANDARD
TZOFFSETFROM:+0200
TZOFFSETTO:+0100
TZNAME:CET
DTSTART:20241027T010000
END:STANDARD
END:VTIMEZONE
BEGIN:VEVENT
DTSTART;TZID=Europe/Berlin:20231103T193000
DTEND;TZID=Europe/Berlin:20231103T213000
DTSTAMP:20260420T205917
CREATED:20230319T084827Z
LAST-MODIFIED:20230319T084827Z
UID:8702-1699039800-1699047000@www.diakonie-kropp.de
SUMMARY:Kropp in Concert mit Tom the Crow
DESCRIPTION:Es gibt was zu sehen und zu hören! \n„Kropp in Concert“ startet in ein neues Musikjahr und bringt seit 2010 Menschen mit und ohne Behinderung bei guter Musik und in lockerer Atmosphäre entspannt und vergnügt zusammen. \nKropp in Concert mit Tom the Crow – Acoustic Guitar \nDer aus dem Rheinland stammende Tom the Crow lebt seit Anfang der Neunziger-Jahre im Norden Schleswig-Holsteins und hat sich hier seitdem mit verschiedenen Band-Projekten und auch als Solo-Künstler einen Namen erspielt.\nVon der Blues-Gitarre – insbesondere von der Slide-Gitarre – fasziniert\, hat er im Laufe der Jahre seinen eigenen Gitarren-Stil stetig weiterentwickelt. Bildeten in den ersten Jahren klassische Blues-Titel den Kern seines Programms\, so bietet er heute ein weit gefächertes Programm\, in dem er unter anderem auf Folk- und Rocktitel sowie einige deutschsprachige Titel zurückgreift\, wobei seine Markenzeichen\, nämlich sein Finger-Picking und sein Slide-Spiel auf verschiedenen Instrumenten sowie sein markanter Gesang voll zur Geltung kommen.\nTom the Crow ist sicherlich in vielerlei Hinsicht ein sehr eigenwilliger Typ\, der musikalisch weit in der Vergangenheit verhaftet ist\, bei seinen Auftritten sehr bewusst auf technischen „Schnick-Schnack“ verzichtet\, am liebsten sogar völlig ohne Technik vor kleinem Publikum spielt und sehr bewusst keine eigene Homepage unterhält. Andererseits gelingt es ihm in diesem Rahmen immer wieder\, sowohl mit seinem rauen Charme\, als auch mit einfühlsamen Worten  sein Publikum anzusprechen und zu begeistern. \nDas Konzert beginnt Freitag\, den 03. November 2023 auf der Strandkorbbühne um 19:30 Uhr – Einlass ab 19:00 Uhr. \nDer Eintritt ist grundsätzlich frei. Um Spenden wird sehr herzlich gebeten.\n  \n„Kropp in Concert“ wird unterstützt von der NOSPA-Kulturstiftung Schleswig-Flensburg.​
URL:https://www.diakonie-kropp.de/event/kropp-in-concert-mit-tom-the-crow/
LOCATION:Kulturcafé Strandkorb\, Hauptstraße 14\, Kropp\, 24848
CATEGORIES:Kropp in Concert
ATTACH;FMTTYPE=image/jpeg:https://www.diakonie-kropp.de/wp-content/uploads/2023/03/2019-06-01-TomtheCrow-Buenge-1-scaled.jpg
GEO:54.410423;9.5139022
X-APPLE-STRUCTURED-LOCATION;VALUE=URI;X-ADDRESS=Kulturcafé Strandkorb Hauptstraße 14 Kropp 24848;X-APPLE-RADIUS=500;X-TITLE=Hauptstraße 14:geo:9.5139022,54.410423
END:VEVENT
BEGIN:VEVENT
DTSTART;TZID=Europe/Berlin:20231115T183000
DTEND;TZID=Europe/Berlin:20231115T203000
DTSTAMP:20260420T205917
CREATED:20231113T154727Z
LAST-MODIFIED:20231113T163232Z
UID:9584-1700073000-1700080200@www.diakonie-kropp.de
SUMMARY:Durch die dunkle Zeit: Einführung
DESCRIPTION:Durch die dunkle Zeit ist ein Angebot des Ambulanten Hospizdienstes Schleswig.\nSpätestens im November ist es wieder so weit − die dunkle Jahreszeit beginnt.\nFür manche ist sie eine gemütliche und tröstliche Zeit\, für andere wohl die einsamste und trostloseste.\nEin Verlust ist da und wer übrig bleibt\, kann vielleicht neue Hoffnung finden. Der Weg dahin ist nicht vertraut.\nAuch er beginnt\, wie alle zuvor\, mit den ersten Schritten.\nWir können den Schmerz und die Last der Trauer nicht nehmen – aber wir helfen tragen. An acht Terminen\, beginnend am 15. November 2023 um 18.30 Uhr\, wünschen wir uns\, dass die Begleitung Durch die dunkle Zeit dazu beitragen kann\, die Einsamkeit zu erleichtern und Trost zu geben.\nWir richten unser Angebot an Menschen\, die Trauer durchleben und nehmen uns Zeit zuzuhören. Unabhängig vom Anlass der Trauer und davon\, wie lange der Verlust zurückliegt.\nDie Begleitung Durch die dunkle Zeit ist kostenfrei und gilt unabhängig von Religion und Weltanschauung.\nAuch eine Teilnahme an einzelnen Abenden ist möglich.\nUm Anmeldung wird gebeten.\nTel.: 04621 30 55 600 \nAlle Veranstaltungen finden in den Räumen\ndes Ambulanten Hospizdienstes statt. \n15.11.2023: Einführung\n18:30 Uhr: In der Trauer nicht allein \nAmbulanter Hospizdienst Schleswig\nFlensburger Straße 36 • 24837 Schleswig\nTelefon (04621) 30 55 600\nFax 04621 30 55 602\nhospizdienst-schleswig@diakonie-kropp.de\nwww.diakonie-kropp.de\nDie Angebote sind kostenfrei.\nSie möchten uns unterstützen?\nUnser Spendenkonto (NOSPA):\nPetri-Haus gGmbH\nIBAN: DE88 2175 0000 0165 7189 66\nVerwendungszweck: Ambulanter Hospizdienst
URL:https://www.diakonie-kropp.de/event/durch-die-dunkle-zeit-einfuehrung/
LOCATION:Ambulanter Hospzdienst Schleswig\, Flensburger Straße 36\, Schleswig\, 24837
ATTACH;FMTTYPE=image/jpeg:https://www.diakonie-kropp.de/wp-content/uploads/2023/11/Durch-die-dunkle-Zeit.jpg
GEO:54.5185932;9.5435647
X-APPLE-STRUCTURED-LOCATION;VALUE=URI;X-ADDRESS=Ambulanter Hospzdienst Schleswig Flensburger Straße 36 Schleswig 24837;X-APPLE-RADIUS=500;X-TITLE=Flensburger Straße 36:geo:9.5435647,54.5185932
END:VEVENT
BEGIN:VEVENT
DTSTART;TZID=Europe/Berlin:20231124T140000
DTEND;TZID=Europe/Berlin:20231124T170000
DTSTAMP:20260420T205917
CREATED:20231107T101318Z
LAST-MODIFIED:20231107T101432Z
UID:9565-1700834400-1700845200@www.diakonie-kropp.de
SUMMARY:Weihnachtsmarkt im Martje-Flohrs-Haus
DESCRIPTION:Weihnachtsmarkt im Martje-Flohrs-Haus \nDer Weihnachtsmarkt beginnt am Freitag\, den 24. November 2023 im Martje-Flohrs-Haus ab 14:00 Uhr.\nMit Basar\, Punsch\, Waffelstand\, Grillwurst\, Kinderschminken\, Kaffee & Kuchen und vielem mehr.  \nWir freuen uns auf Sie!
URL:https://www.diakonie-kropp.de/event/weihnachtsmarkt-im-martje-flohrs-haus/
LOCATION:Martje-Flohrs-Haus\, Norderring 15\, Garding\, 25836
ATTACH;FMTTYPE=image/jpeg:https://www.diakonie-kropp.de/wp-content/uploads/2023/11/Plakat-Weihnachtsmarkt-MFH-St.-Christian_1.jpg
GEO:54.3308366;8.7835325
X-APPLE-STRUCTURED-LOCATION;VALUE=URI;X-ADDRESS=Martje-Flohrs-Haus Norderring 15 Garding 25836;X-APPLE-RADIUS=500;X-TITLE=Norderring 15:geo:8.7835325,54.3308366
END:VEVENT
BEGIN:VEVENT
DTSTART;TZID=Europe/Berlin:20231129T183000
DTEND;TZID=Europe/Berlin:20231129T203000
DTSTAMP:20260420T205917
CREATED:20231113T155438Z
LAST-MODIFIED:20231113T163153Z
UID:9591-1701282600-1701289800@www.diakonie-kropp.de
SUMMARY:Durch die dunkle Zeit: Gedenktage
DESCRIPTION:Durch die dunkle Zeit ist ein Angebot des Ambulanten Hospizdienstes Schleswig.\nSpätestens im November ist es wieder so weit − die dunkle Jahreszeit beginnt.\nFür manche ist sie eine gemütliche und tröstliche Zeit\, für andere wohl die einsamste und trostloseste.\nEin Verlust ist da und wer übrig bleibt\, kann vielleicht neue Hoffnung finden. Der Weg dahin ist nicht vertraut.\nAuch er beginnt\, wie alle zuvor\, mit den ersten Schritten.\nWir können den Schmerz und die Last der Trauer nicht nehmen – aber wir helfen tragen. An acht Terminen\, beginnend am 15. November 2023 um 18.30 Uhr\, wünschen wir uns\, dass die Begleitung Durch die dunkle Zeit dazu beitragen kann\, die Einsamkeit zu erleichtern und Trost zu geben.\nWir richten unser Angebot an Menschen\, die Trauer durchleben und nehmen uns Zeit zuzuhören. Unabhängig vom Anlass der Trauer und davon\, wie lange der Verlust zurückliegt.\nDie Begleitung Durch die dunkle Zeit ist kostenfrei und gilt unabhängig von Religion und Weltanschauung.\nAuch eine Teilnahme an einzelnen Abenden ist möglich.\nUm Anmeldung wird gebeten.\nTel.: 04621 30 55 600 \nAlle Veranstaltungen finden in den Räumen\ndes Ambulanten Hospizdienstes statt. \n29.11.2023: Gedenktage\n18:30 Uhr: – trösten sie mich? \nAmbulanter Hospizdienst Schleswig\nFlensburger Straße 36 • 24837 Schleswig\nTelefon (04621) 30 55 600\nFax 04621 30 55 602\nhospizdienst-schleswig@diakonie-kropp.de\nwww.diakonie-kropp.de\nDie Angebote sind kostenfrei.\nSie möchten uns unterstützen?\nUnser Spendenkonto (NOSPA):\nPetri-Haus gGmbH\nIBAN: DE88 2175 0000 0165 7189 66\nVerwendungszweck: Ambulanter Hospizdienst
URL:https://www.diakonie-kropp.de/event/durch-die-dunkle-zeit-gedenktage/
LOCATION:Ambulanter Hospzdienst Schleswig\, Flensburger Straße 36\, Schleswig\, 24837
ATTACH;FMTTYPE=image/jpeg:https://www.diakonie-kropp.de/wp-content/uploads/2023/11/Durch-die-dunkle-Zeit.jpg
GEO:54.5185932;9.5435647
X-APPLE-STRUCTURED-LOCATION;VALUE=URI;X-ADDRESS=Ambulanter Hospzdienst Schleswig Flensburger Straße 36 Schleswig 24837;X-APPLE-RADIUS=500;X-TITLE=Flensburger Straße 36:geo:9.5435647,54.5185932
END:VEVENT
END:VCALENDAR