BEGIN:VCALENDAR
VERSION:2.0
PRODID:-//Stiftung Diakoniewerk Kropp - ECPv6.15.20//NONSGML v1.0//EN
CALSCALE:GREGORIAN
METHOD:PUBLISH
X-WR-CALNAME:Stiftung Diakoniewerk Kropp
X-ORIGINAL-URL:https://www.diakonie-kropp.de
X-WR-CALDESC:Veranstaltungen für Stiftung Diakoniewerk Kropp
REFRESH-INTERVAL;VALUE=DURATION:PT1H
X-Robots-Tag:noindex
X-PUBLISHED-TTL:PT1H
BEGIN:VTIMEZONE
TZID:Europe/Berlin
BEGIN:DAYLIGHT
TZOFFSETFROM:+0100
TZOFFSETTO:+0200
TZNAME:CEST
DTSTART:20230326T010000
END:DAYLIGHT
BEGIN:STANDARD
TZOFFSETFROM:+0200
TZOFFSETTO:+0100
TZNAME:CET
DTSTART:20231029T010000
END:STANDARD
BEGIN:DAYLIGHT
TZOFFSETFROM:+0100
TZOFFSETTO:+0200
TZNAME:CEST
DTSTART:20240331T010000
END:DAYLIGHT
BEGIN:STANDARD
TZOFFSETFROM:+0200
TZOFFSETTO:+0100
TZNAME:CET
DTSTART:20241027T010000
END:STANDARD
BEGIN:DAYLIGHT
TZOFFSETFROM:+0100
TZOFFSETTO:+0200
TZNAME:CEST
DTSTART:20250330T010000
END:DAYLIGHT
BEGIN:STANDARD
TZOFFSETFROM:+0200
TZOFFSETTO:+0100
TZNAME:CET
DTSTART:20251026T010000
END:STANDARD
END:VTIMEZONE
BEGIN:VEVENT
DTSTART;TZID=Europe/Berlin:20240606T150000
DTEND;TZID=Europe/Berlin:20240606T170000
DTSTAMP:20260419T142221
CREATED:20240307T083013Z
LAST-MODIFIED:20240307T083013Z
UID:9993-1717686000-1717693200@www.diakonie-kropp.de
SUMMARY:Kropp in Concert: Fifties
DESCRIPTION:Fifties\nMusikcafé am Nachmittag\nNachmittag mit deutschen Schlagern der 1950er und – 60er Jahre vom dem Duo „Die Fifties“ zum Mitsingen und- schwingen. \nDie Veranstaltung findet am Donnerstag\, den 06. Juni 2024 um 15:00 Uhr statt. \nVeranstaltungsort:\nStrandkorb\nHauptstraße 14\n24848 Kropp \nEine Kooperation von der Stiftung Diakoniewerk Kropp und dem Kropper Diakonie-Förderverein zwischen den Meeren.\nDieses Angebot wird unterstützt durch die Nord-Ostsee Sparkasse.
URL:https://www.diakonie-kropp.de/event/kropp-in-concert-fifties/
LOCATION:Strandkorb\, Hauptstraße 14\, Kropp\, 24848
CATEGORIES:Kropp in Concert
ATTACH;FMTTYPE=image/jpeg:https://www.diakonie-kropp.de/wp-content/uploads/2024/03/die-Fifties_live-im-Strandkorb.jpg
GEO:54.4109252;9.5113767
X-APPLE-STRUCTURED-LOCATION;VALUE=URI;X-ADDRESS=Strandkorb Hauptstraße 14 Kropp 24848;X-APPLE-RADIUS=500;X-TITLE=Hauptstraße 14:geo:9.5113767,54.4109252
END:VEVENT
BEGIN:VEVENT
DTSTART;TZID=Europe/Berlin:20240613T190000
DTEND;TZID=Europe/Berlin:20240613T210000
DTSTAMP:20260419T142221
CREATED:20240528T064442Z
LAST-MODIFIED:20240528T064442Z
UID:10463-1718305200-1718312400@www.diakonie-kropp.de
SUMMARY:Eröffnung der Ausstellung "Findlinge"
DESCRIPTION:Eröffnung der Ausstellung „Findlinge“ im Museum für Outsiderkunst \nDonnerstag\, 13. Juni 2024 · 19:00 Uhr\nDie Ausstellung endet am 30. August 2024. \nDas Foto zeigt einen Findling aus dem Wald\nbei Füsing. In dieser Ausstellung soll es\num Kunst unbekannter Künstlerinnen und\nKünstler gehen\, die im Kontext des Museums\nund seiner Umgebung auftauchen. \nMuseum für Outsiderkunst\nStadtweg 57 · 24837 Schleswig\nTelefon: 04621 850839\nwww.artothek-schleswig.de\nÖffnungszeiten:\nMittwoch bis Freitag\n14:30 – 17:30 Uhr
URL:https://www.diakonie-kropp.de/event/eroeffnung-der-ausstellung-findlinge/
LOCATION:Museum für Outsiderkunst\, Stadtweg 57\, 24837 Schleswig
ATTACH;FMTTYPE=image/jpeg:https://www.diakonie-kropp.de/wp-content/uploads/2024/05/IMG_20230904_101143.jpg
GEO:54.5159942;9.5604938
X-APPLE-STRUCTURED-LOCATION;VALUE=URI;X-ADDRESS=Museum für Outsiderkunst Stadtweg 57 24837 Schleswig;X-APPLE-RADIUS=500;X-TITLE=Stadtweg 57:geo:9.5604938,54.5159942
END:VEVENT
END:VCALENDAR