BEGIN:VCALENDAR
VERSION:2.0
PRODID:-//Stiftung Diakoniewerk Kropp - ECPv6.15.20//NONSGML v1.0//EN
CALSCALE:GREGORIAN
METHOD:PUBLISH
X-WR-CALNAME:Stiftung Diakoniewerk Kropp
X-ORIGINAL-URL:https://www.diakonie-kropp.de
X-WR-CALDESC:Veranstaltungen für Stiftung Diakoniewerk Kropp
REFRESH-INTERVAL;VALUE=DURATION:PT1H
X-Robots-Tag:noindex
X-PUBLISHED-TTL:PT1H
BEGIN:VTIMEZONE
TZID:Europe/Berlin
BEGIN:DAYLIGHT
TZOFFSETFROM:+0100
TZOFFSETTO:+0200
TZNAME:CEST
DTSTART:20240331T010000
END:DAYLIGHT
BEGIN:STANDARD
TZOFFSETFROM:+0200
TZOFFSETTO:+0100
TZNAME:CET
DTSTART:20241027T010000
END:STANDARD
BEGIN:DAYLIGHT
TZOFFSETFROM:+0100
TZOFFSETTO:+0200
TZNAME:CEST
DTSTART:20250330T010000
END:DAYLIGHT
BEGIN:STANDARD
TZOFFSETFROM:+0200
TZOFFSETTO:+0100
TZNAME:CET
DTSTART:20251026T010000
END:STANDARD
BEGIN:DAYLIGHT
TZOFFSETFROM:+0100
TZOFFSETTO:+0200
TZNAME:CEST
DTSTART:20260329T010000
END:DAYLIGHT
BEGIN:STANDARD
TZOFFSETFROM:+0200
TZOFFSETTO:+0100
TZNAME:CET
DTSTART:20261025T010000
END:STANDARD
END:VTIMEZONE
BEGIN:VEVENT
DTSTART;TZID=Europe/Berlin:20250913T160000
DTEND;TZID=Europe/Berlin:20250913T183000
DTSTAMP:20260419T142859
CREATED:20250109T091944Z
LAST-MODIFIED:20250415T071220Z
UID:11148-1757779200-1757788200@www.diakonie-kropp.de
SUMMARY:Kropp in Concert präsentiert Gerrit Hoss & Band
DESCRIPTION:Haus Kana: „Gerrit Hoss & Band“ \nGerrit Hoss – plattdeutscher Liederschreiber\, „Hör mol ´n beten to“- Autor (NDR) und Stimme bei „Godewind“ – präsentiert bei Kropp in Concert sein aktuelles Soloprogramm.
URL:https://www.diakonie-kropp.de/event/gerrit-hoss-band/
LOCATION:Haus Kana\, Johannesallee 1\, Kropp\, 24848
CATEGORIES:Kropp in Concert
ATTACH;FMTTYPE=image/jpeg:https://www.diakonie-kropp.de/wp-content/uploads/2025/01/1Bild-Gerrit-Hoss-1-Agentur-Waldmeister-scaled.jpg
GEO:54.4100275;9.5153541
X-APPLE-STRUCTURED-LOCATION;VALUE=URI;X-ADDRESS=Haus Kana Johannesallee 1 Kropp 24848;X-APPLE-RADIUS=500;X-TITLE=Johannesallee 1:geo:9.5153541,54.4100275
END:VEVENT
BEGIN:VEVENT
DTSTART;TZID=Europe/Berlin:20250917T190000
DTEND;TZID=Europe/Berlin:20250917T210000
DTSTAMP:20260419T142859
CREATED:20250731T122506Z
LAST-MODIFIED:20250731T122614Z
UID:11791-1758135600-1758142800@www.diakonie-kropp.de
SUMMARY:Eröffnung der Ausstellung Herbst im Museum für Outsiderkunst
DESCRIPTION:Einladung zur Eröffnung der Ausstellung Herbst \nMittwoch\, 17. September 2025\num 19:00 Uhr \n„Herr: es ist Zeit. Der Sommer war sehr groß.\nLeg deinen Schatten auf die Sonnenuhren\,\nund auf den Fluren laß die Winde los.“\n(Rainer Maria Rilke\n(das Buch der Bilder / Herbsttag) \nAn dieser Veranstaltung werden folgende Künstlerinnen und Künstler teilnehmen:\nThorsten Lenartz\, Susanne Maining\, Linde Famira\,\nAnke Schröder-Schmidt\, Torsten Oranth\, Saskia Daniels\,\nSvenja Daniels\, Jan Berg und Künstlerinnen und Künstler der Artothek und von TalentART \nDie Ausstellung endet am 28. November 2025 \nMuseum für Outsiderkunst\nStadtweg 57 · 24837 Schleswig\nTelefon: 04621 850839\nÖffnungszeiten:\nMittwoch bis Freitag\n14:30 –17:30 Uhr\nNeu: Bilder ausleihen\, so wie Bücher!\nwww.artothek-schleswig.de \nIhre Spende gibt Kunst einen Raum.\nNord-Ostsee-Sparkasse\nIBAN DE93 2175 0000 0186 0504 64
URL:https://www.diakonie-kropp.de/event/eroeffnung-der-ausstellung-herbst/
LOCATION:Museum für Outsiderkunst\, Stadtweg 57\, 24837 Schleswig
ATTACH;FMTTYPE=image/png:https://www.diakonie-kropp.de/wp-content/uploads/2025/07/Herbst-.png
GEO:54.5159942;9.5604938
X-APPLE-STRUCTURED-LOCATION;VALUE=URI;X-ADDRESS=Museum für Outsiderkunst Stadtweg 57 24837 Schleswig;X-APPLE-RADIUS=500;X-TITLE=Stadtweg 57:geo:9.5604938,54.5159942
END:VEVENT
END:VCALENDAR