BEGIN:VCALENDAR
VERSION:2.0
PRODID:-//Stiftung Diakoniewerk Kropp - ECPv6.15.20//NONSGML v1.0//EN
CALSCALE:GREGORIAN
METHOD:PUBLISH
X-ORIGINAL-URL:https://www.diakonie-kropp.de
X-WR-CALDESC:Veranstaltungen für Stiftung Diakoniewerk Kropp
REFRESH-INTERVAL;VALUE=DURATION:PT1H
X-Robots-Tag:noindex
X-PUBLISHED-TTL:PT1H
BEGIN:VTIMEZONE
TZID:Europe/Berlin
BEGIN:DAYLIGHT
TZOFFSETFROM:+0100
TZOFFSETTO:+0200
TZNAME:CEST
DTSTART:20240331T010000
END:DAYLIGHT
BEGIN:STANDARD
TZOFFSETFROM:+0200
TZOFFSETTO:+0100
TZNAME:CET
DTSTART:20241027T010000
END:STANDARD
BEGIN:DAYLIGHT
TZOFFSETFROM:+0100
TZOFFSETTO:+0200
TZNAME:CEST
DTSTART:20250330T010000
END:DAYLIGHT
BEGIN:STANDARD
TZOFFSETFROM:+0200
TZOFFSETTO:+0100
TZNAME:CET
DTSTART:20251026T010000
END:STANDARD
BEGIN:DAYLIGHT
TZOFFSETFROM:+0100
TZOFFSETTO:+0200
TZNAME:CEST
DTSTART:20260329T010000
END:DAYLIGHT
BEGIN:STANDARD
TZOFFSETFROM:+0200
TZOFFSETTO:+0100
TZNAME:CET
DTSTART:20261025T010000
END:STANDARD
END:VTIMEZONE
BEGIN:VEVENT
DTSTART;TZID=Europe/Berlin:20251010T100000
DTEND;TZID=Europe/Berlin:20251010T161000
DTSTAMP:20260420T112743
CREATED:20250918T144234Z
LAST-MODIFIED:20250918T145021Z
UID:11927-1760090400-1760112600@www.diakonie-kropp.de
SUMMARY:10 Jahre LichtART
DESCRIPTION:Wir feiern 10 Jahre Kreativität\, Gemeinschaft & Unterstützendes Arbeiten.\nZum Jubiläum laden wir herzlich ein: zum Staunen\, Mitmachen und gemeinsam feiern: \n10. Oktober 2025 – 10:00-16:10 Uhr\nLichtART\, Kornmarkt 3\, 24837 Schleswig \n\n• „the orange room“ – 10 Lieder für alle Gäste Live-Musik\, die bewegt! Ein Musikprojekt der Hesterberg & Stadtfeld gGmbH\n• GLÜCKSRAD – Mit 10-facher Gewinnchance!\n• 10% AUF DAS GESAMTE SORTIMENT Kerzenkunst & mehr – handgemacht\, farbenfroh\, einzigartig.\n• FINGERFOOD & KUCHEN von der Diakonie Service Kropp (10-mal leckerer als woanders – versprochen!)\n\nSeit 2015 stellen Menschen mit Handicap bei LichtART kunstvolle Kerzen her und verkaufen diese vor Ort. Im kleinen Innenhof der Schleswiger Innenstadt – gemeinsam mit unserer Textilmanufaktur StoffART sowie weiteren Geschäften und Restaurants – arbeiten 10 Menschen mit Beeinträchtigungen in der Kerzenherstellung\, Beratung und Verkauf.
URL:https://www.diakonie-kropp.de/event/10-jahre-lichtart/
LOCATION:LichtART\, Am Kornmarkt 3\, Schleswig
ATTACH;FMTTYPE=image/jpeg:https://www.diakonie-kropp.de/wp-content/uploads/2025/09/lichtart_plakat_10-Jahre.jpg
GEO:54.517283;9.5677921
X-APPLE-STRUCTURED-LOCATION;VALUE=URI;X-ADDRESS=LichtART Am Kornmarkt 3 Schleswig;X-APPLE-RADIUS=500;X-TITLE=Am Kornmarkt 3:geo:9.5677921,54.517283
END:VEVENT
BEGIN:VEVENT
DTSTART;TZID=Europe/Berlin:20251010T193000
DTEND;TZID=Europe/Berlin:20251010T220000
DTSTAMP:20260420T112743
CREATED:20250109T092431Z
LAST-MODIFIED:20250415T071303Z
UID:11153-1760124600-1760133600@www.diakonie-kropp.de
SUMMARY:Kropp in Concert präsentiert Enrico Glomm
DESCRIPTION:Strandkorbbühne: „Enrico Glomm“ \nGefühlvolle Balladen\, rockige Ohrwürmer und das Leben als Inspirationsquelle. Lassen Sie sich verzaubern von den Liedern des Kieler Singer-Songwriters Enrico Glomm und seiner charismatischen Stimme.
URL:https://www.diakonie-kropp.de/event/erico-glomm/
LOCATION:Strandkorb\, Hauptstraße 14\, Kropp\, 24848
CATEGORIES:Kropp in Concert
ATTACH;FMTTYPE=image/jpeg:https://www.diakonie-kropp.de/wp-content/uploads/2025/01/1Foto_EnricoGlomm-scaled.jpg
GEO:54.4109252;9.5113767
X-APPLE-STRUCTURED-LOCATION;VALUE=URI;X-ADDRESS=Strandkorb Hauptstraße 14 Kropp 24848;X-APPLE-RADIUS=500;X-TITLE=Hauptstraße 14:geo:9.5113767,54.4109252
END:VEVENT
BEGIN:VEVENT
DTSTART;TZID=Europe/Berlin:20251011T170000
DTEND;TZID=Europe/Berlin:20251011T210000
DTSTAMP:20260420T112743
CREATED:20250918T142450Z
LAST-MODIFIED:20250918T144333Z
UID:11914-1760202000-1760216400@www.diakonie-kropp.de
SUMMARY:Welthospiztag 2025 – Ein Abend für die Hospizarbeit
DESCRIPTION:Am 11. Oktober 2025 ist Welthospiztag – ein Anlass\, der uns alle daran erinnert\, wie wichtig Mitmenschlichkeit\, Fürsorge und ehrenamtliches Engagement sind. \nUnter dem Motto „Traut euch – für eine sorgende Gemeinschaft“ erwartet Sie ein abwechslungsreicher Abend mit: \n\n• Lesung von Bestsellerautor und Notfallseelsorger Frank Pape\n• Musik von Gold & Asche und Jan Eichwald\n• Talkrunde mit Gästen\, moderiert von Carsten Kock (RSH)\n• Wein & kulinarische Verpflegung\n\n11. Oktober\, Einlass: 17:00 Uhr | Beginn: 18:00 Uhr \nSlesvighus\, Lollfuß 89\, Schleswig \nDer Abend möchte nicht nur die Hospizarbeit in den Fokus rücken\, sondern auch dazu ermutigen\, selbst aktiv zu werden und Mitmenschen dort zu helfen\, um Hilfe am nötigsten ist! \nTickets sind für 20 € bei der Buchhandlung Liesegang in Schleswig erhältlich. Die Erlöse kommen der Hospizarbeit zugute.
URL:https://www.diakonie-kropp.de/event/welthospiztag-2025-ein-abend-fuer-die-hospizarbeit/
LOCATION:Slesvighus\, Lollfuß 89\, Schleswig
ATTACH;FMTTYPE=image/jpeg:https://www.diakonie-kropp.de/wp-content/uploads/2025/09/FREU_K_2506_Welthospiztag_Plakat_A1-scaled.jpg
GEO:54.5124561;9.5476003
X-APPLE-STRUCTURED-LOCATION;VALUE=URI;X-ADDRESS=Slesvighus Lollfuß 89 Schleswig;X-APPLE-RADIUS=500;X-TITLE=Lollfuß 89:geo:9.5476003,54.5124561
END:VEVENT
BEGIN:VEVENT
DTSTART;TZID=Europe/Berlin:20251014T150000
DTEND;TZID=Europe/Berlin:20251014T180000
DTSTAMP:20260420T112743
CREATED:20250811T144552Z
LAST-MODIFIED:20250916T124808Z
UID:11804-1760454000-1760464800@www.diakonie-kropp.de
SUMMARY:Diakonie-Pflege-Kompass: Infoveranstaltung
DESCRIPTION:Diakonie-Pflege-Kompass\nWie möchten Sie im Alter leben? Selbstbestimmt\, gut beraten und gut gepflegt? Unsere kostenfreie Veranstaltungsreihe zeigt Wege auf\, wie ein glückliches und würdevolles Leben im Alter möglich ist.\nEinladung zur Infoveranstaltung: \nDer Kropper Diakonie Förderverein zwischen den Meeren e. V. lädt Sie herzlich ein: Drei Abende – drei Orte – ein Ziel: Mehr Lebensqualität im Alter. \n  \nDer Eintritt ist frei. Getränke & Imbiss inklusive. Termine & Orte: \n14. Oktober 2025 – 15:00 bis 18:00 Uhr (mit buntem Rahmenprogramm)\, Kropp\, Haus Kana\, Johannesallee 9 · 24848 Kropp  \n15. Oktober 2025 – 16:00 bis 18:00 Uhr\, Eckernförde\, Servicehaus St. Martin Margarethe-Kruse-Straße 6-8 · 24340 Eckernförde  \n16. Oktober 2025 – 16:00 bis 18:00 Uhr\, Schleswig\, Pflegeheim Zum Öhr\, Zum Öhr 2 · 24837 Schleswig \n  \nDie Themen für Sie: \n • Übersicht der Pflegeangebote der Diakonie: von Ambulanter Pflege bis Tagespflege \n • Individuelle Hilfepakete für ein Leben zu Hause  \n• Prävention & Wohnformen im Alter \n  \nWas Sie mitnehmen:  \n• Persönliche Beratung und Aufklärung vor Ort  \n• Praktische Einblicke in regionale Angebote der Diakonie  \n• Abbau von Berührungsängsten mit dem Thema Pflege \n  \nAnmeldung bis zum 12. Oktober: Meike Rathmann Bereichsleitung Ambulant Ostküste\, Telefon: 04624 -801 865\, m.rathmann@diakonie-kropp.de \nEinfach gut informiert. Einfach gut gepflegt. Diakonie-Pflege-Kompass – Ihr Wegweiser im Alter. 
URL:https://www.diakonie-kropp.de/event/diakonie-pflege-kompass-infoveranstaltung/
LOCATION:Haus Kana\, Johannesallee 1\, Kropp\, 24848
ATTACH;FMTTYPE=image/png:https://www.diakonie-kropp.de/wp-content/uploads/2025/08/kompass.png
GEO:54.4100275;9.5153541
X-APPLE-STRUCTURED-LOCATION;VALUE=URI;X-ADDRESS=Haus Kana Johannesallee 1 Kropp 24848;X-APPLE-RADIUS=500;X-TITLE=Johannesallee 1:geo:9.5153541,54.4100275
END:VEVENT
BEGIN:VEVENT
DTSTART;TZID=Europe/Berlin:20251015T160000
DTEND;TZID=Europe/Berlin:20251015T180000
DTSTAMP:20260420T112743
CREATED:20250811T144922Z
LAST-MODIFIED:20250916T124852Z
UID:11807-1760544000-1760551200@www.diakonie-kropp.de
SUMMARY:Diakonie-Pflege-Kompass: Infoveranstaltung
DESCRIPTION:Diakonie-Pflege-Kompass\nWie möchten Sie im Alter leben? Selbstbestimmt\, gut beraten und gut gepflegt? Unsere kostenfreie Veranstaltungsreihe zeigt Wege auf\, wie ein glückliches und würdevolles Leben im Alter möglich ist.\nEinladung zur Infoveranstaltung: \nDer Kropper Diakonie Förderverein zwischen den Meeren e. V. lädt Sie herzlich ein: Drei Abende – drei Orte – ein Ziel: Mehr Lebensqualität im Alter. \n  \nDer Eintritt ist frei. Getränke & Imbiss inklusive. Termine & Orte: \n14. Oktober 2025 – 15:00 bis 18:00 Uhr (mit buntem Rahmenprogramm)\, Kropp\, Haus Kana\, Johannesallee 9 · 24848 Kropp  \n15. Oktober 2025 – 16:00 bis 18:00 Uhr\, Eckernförde\, Servicehaus St. Martin Margarethe-Kruse-Straße 6-8 · 24340 Eckernförde  \n16. Oktober 2025 – 16:00 bis 18:00 Uhr\, Schleswig\, Pflegeheim Zum Öhr\, Zum Öhr 2 · 24837 Schleswig \n  \nDie Themen für Sie: \n • Übersicht der Pflegeangebote der Diakonie: von Ambulanter Pflege bis Tagespflege \n • Individuelle Hilfepakete für ein Leben zu Hause  \n• Prävention & Wohnformen im Alter \n  \nWas Sie mitnehmen:  \n• Persönliche Beratung und Aufklärung vor Ort  \n• Praktische Einblicke in regionale Angebote der Diakonie  \n• Abbau von Berührungsängsten mit dem Thema Pflege  \n  \nAnmeldung bis zum 12. Oktober: Meike Rathmann Bereichsleitung Ambulant Ostküste\, Telefon: 04624 -801 865\, m.rathmann@diakonie-kropp.de \nEinfach gut informiert. Einfach gut gepflegt. Diakonie-Pflege-Kompass – Ihr Wegweiser im Alter. 
URL:https://www.diakonie-kropp.de/event/diakonie-pflege-kompass-infoveranstaltung-2/
LOCATION:Servicehaus St. Martin\, Margarethe-Kruse-Str. 6-8\, Eckernförde\, 24340\, Germany
ATTACH;FMTTYPE=image/png:https://www.diakonie-kropp.de/wp-content/uploads/2025/08/kompass-1.png
GEO:54.4862722;9.8245506
X-APPLE-STRUCTURED-LOCATION;VALUE=URI;X-ADDRESS=Servicehaus St. Martin Margarethe-Kruse-Str. 6-8 Eckernförde 24340 Germany;X-APPLE-RADIUS=500;X-TITLE=Margarethe-Kruse-Str. 6-8:geo:9.8245506,54.4862722
END:VEVENT
BEGIN:VEVENT
DTSTART;TZID=Europe/Berlin:20251016T160000
DTEND;TZID=Europe/Berlin:20251016T180000
DTSTAMP:20260420T112743
CREATED:20250811T145311Z
LAST-MODIFIED:20250916T124922Z
UID:11816-1760630400-1760637600@www.diakonie-kropp.de
SUMMARY:Diakonie-Pflege-Kompass: Infoveranstaltung
DESCRIPTION:Diakonie-Pflege-Kompass\nWie möchten Sie im Alter leben? Selbstbestimmt\, gut beraten und gut gepflegt? Unsere kostenfreie Veranstaltungsreihe zeigt Wege auf\, wie ein glückliches und würdevolles Leben im Alter möglich ist.\nEinladung zur Infoveranstaltung: \nDer Kropper Diakonie Förderverein zwischen den Meeren e. V. lädt Sie herzlich ein: Drei Abende – drei Orte – ein Ziel: Mehr Lebensqualität im Alter. \n  \nDer Eintritt ist frei. Getränke & Imbiss inklusive. Termine & Orte: \n14. Oktober 2025 – 15:00 bis 18:00 Uhr (mit buntem Rahmenprogramm)\, Kropp\, Haus Kana\, Johannesallee 9 · 24848 Kropp  \n15. Oktober 2025 – 16:00 bis 18:00 Uhr\, Eckernförde\, Servicehaus St. Martin Margarethe-Kruse-Straße 6-8 · 24340 Eckernförde  \n16. Oktober 2025 – 16:00 bis 18:00 Uhr\, Schleswig\, Pflegeheim Zum Öhr\, Zum Öhr 2 · 24837 Schleswig \n  \nDie Themen für Sie: \n • Übersicht der Pflegeangebote der Diakonie: von Ambulanter Pflege bis Tagespflege \n • Individuelle Hilfepakete für ein Leben zu Hause  \n• Prävention & Wohnformen im Alter \n  \nWas Sie mitnehmen:  \n• Persönliche Beratung und Aufklärung vor Ort  \n• Praktische Einblicke in regionale Angebote der Diakonie  \n• Abbau von Berührungsängsten mit dem Thema Pflege \n  \nAnmeldung bis zum 12. Oktober: Meike Rathmann Bereichsleitung Ambulant Ostküste\, Telefon: 04624 -801 865\, m.rathmann@diakonie-kropp.de \nEinfach gut informiert. Einfach gut gepflegt. Diakonie-Pflege-Kompass – Ihr Wegweiser im Alter. 
URL:https://www.diakonie-kropp.de/event/diakonie-pflege-kompass-infoveranstaltung-3/
LOCATION:Pflegeheim zum Öhr\, Zum Öhr 2\, Schleswig\, 24837
ATTACH;FMTTYPE=image/png:https://www.diakonie-kropp.de/wp-content/uploads/2025/08/kompass-2.png
GEO:54.50322;9.54663
X-APPLE-STRUCTURED-LOCATION;VALUE=URI;X-ADDRESS=Pflegeheim zum Öhr Zum Öhr 2 Schleswig 24837;X-APPLE-RADIUS=500;X-TITLE=Zum Öhr 2:geo:9.54663,54.50322
END:VEVENT
END:VCALENDAR