BEGIN:VCALENDAR
VERSION:2.0
PRODID:-//Stiftung Diakoniewerk Kropp - ECPv6.15.20//NONSGML v1.0//EN
CALSCALE:GREGORIAN
METHOD:PUBLISH
X-WR-CALNAME:Stiftung Diakoniewerk Kropp
X-ORIGINAL-URL:https://www.diakonie-kropp.de
X-WR-CALDESC:Veranstaltungen für Stiftung Diakoniewerk Kropp
REFRESH-INTERVAL;VALUE=DURATION:PT1H
X-Robots-Tag:noindex
X-PUBLISHED-TTL:PT1H
BEGIN:VTIMEZONE
TZID:Europe/Berlin
BEGIN:DAYLIGHT
TZOFFSETFROM:+0100
TZOFFSETTO:+0200
TZNAME:CEST
DTSTART:20220327T010000
END:DAYLIGHT
BEGIN:STANDARD
TZOFFSETFROM:+0200
TZOFFSETTO:+0100
TZNAME:CET
DTSTART:20221030T010000
END:STANDARD
BEGIN:DAYLIGHT
TZOFFSETFROM:+0100
TZOFFSETTO:+0200
TZNAME:CEST
DTSTART:20230326T010000
END:DAYLIGHT
BEGIN:STANDARD
TZOFFSETFROM:+0200
TZOFFSETTO:+0100
TZNAME:CET
DTSTART:20231029T010000
END:STANDARD
BEGIN:DAYLIGHT
TZOFFSETFROM:+0100
TZOFFSETTO:+0200
TZNAME:CEST
DTSTART:20240331T010000
END:DAYLIGHT
BEGIN:STANDARD
TZOFFSETFROM:+0200
TZOFFSETTO:+0100
TZNAME:CET
DTSTART:20241027T010000
END:STANDARD
BEGIN:DAYLIGHT
TZOFFSETFROM:+0100
TZOFFSETTO:+0200
TZNAME:CEST
DTSTART:20250330T010000
END:DAYLIGHT
BEGIN:STANDARD
TZOFFSETFROM:+0200
TZOFFSETTO:+0100
TZNAME:CET
DTSTART:20251026T010000
END:STANDARD
BEGIN:DAYLIGHT
TZOFFSETFROM:+0100
TZOFFSETTO:+0200
TZNAME:CEST
DTSTART:20260329T010000
END:DAYLIGHT
BEGIN:STANDARD
TZOFFSETFROM:+0200
TZOFFSETTO:+0100
TZNAME:CET
DTSTART:20261025T010000
END:STANDARD
END:VTIMEZONE
BEGIN:VEVENT
DTSTART;TZID=Europe/Berlin:20251126T140000
DTEND;TZID=Europe/Berlin:20251126T173000
DTSTAMP:20260420T112613
CREATED:20251105T154650Z
LAST-MODIFIED:20251105T154650Z
UID:11997-1764165600-1764178200@www.diakonie-kropp.de
SUMMARY:Winterzauber im Martje-Flohrs-Haus
DESCRIPTION:Am Mittwoch\, den 26. November 2025\, lädt das Martje-Flohrs-Haus von 14 bis 17:30 Uhr herzlich zum Winterzauber ein. Besucherinnen und Besucher erwartet eine stimmungsvolle Veranstaltung mit vielfältigen Verkaufsständen\, die liebevoll gestaltete Produkte und Geschenkideen präsentieren. Für das leibliche Wohl ist bestens gesorgt: Waffeln\, Kaffee und Kuchen sowie Punsch und Grillwurst laden zum Genießen und Verweilen ein. Livemusik und weitere Überraschungen sorgen für eine gemütliche Winteratmosphäre.
URL:https://www.diakonie-kropp.de/event/winterzauber-im-martje-flohrs-haus/
LOCATION:Martje-Flohrs-Haus\, Norderring 15\, Garding\, 25836
CATEGORIES:Feste
ATTACH;FMTTYPE=image/jpeg:https://www.diakonie-kropp.de/wp-content/uploads/2025/11/WINTERZAUBER_MFH.jpg
GEO:54.3308366;8.7835325
X-APPLE-STRUCTURED-LOCATION;VALUE=URI;X-ADDRESS=Martje-Flohrs-Haus Norderring 15 Garding 25836;X-APPLE-RADIUS=500;X-TITLE=Norderring 15:geo:8.7835325,54.3308366
END:VEVENT
BEGIN:VEVENT
DTSTART;TZID=Europe/Berlin:20241122T140000
DTEND;TZID=Europe/Berlin:20241122T173000
DTSTAMP:20260420T112613
CREATED:20241022T092242Z
LAST-MODIFIED:20241022T092242Z
UID:11013-1732284000-1732296600@www.diakonie-kropp.de
SUMMARY:Wintermarkt im Martje-Flohrs-Haus
DESCRIPTION:Wintermarkt im Martje-Flohrs-Haus \nDer Wintermarkt findet am 22. November 2024 von 14:00 Uhr bis 17:30 Uhr im Martje-Flohrs-Haus in Garding statt.\nMit Verkaufsständen\, Waffeln\, Apfel-Punsch\, Grillwurst und Musik!
URL:https://www.diakonie-kropp.de/event/wintermarkt-im-martje-flohrs-haus/
LOCATION:Martje-Flohrs-Haus\, Norderring 15\, Garding\, 25836
ATTACH;FMTTYPE=image/jpeg:https://www.diakonie-kropp.de/wp-content/uploads/2024/10/Wintermarkt_MFH-002-scaled.jpeg
GEO:54.3308366;8.7835325
X-APPLE-STRUCTURED-LOCATION;VALUE=URI;X-ADDRESS=Martje-Flohrs-Haus Norderring 15 Garding 25836;X-APPLE-RADIUS=500;X-TITLE=Norderring 15:geo:8.7835325,54.3308366
END:VEVENT
BEGIN:VEVENT
DTSTART;TZID=Europe/Berlin:20231124T140000
DTEND;TZID=Europe/Berlin:20231124T170000
DTSTAMP:20260420T112613
CREATED:20231107T101318Z
LAST-MODIFIED:20231107T101432Z
UID:9565-1700834400-1700845200@www.diakonie-kropp.de
SUMMARY:Weihnachtsmarkt im Martje-Flohrs-Haus
DESCRIPTION:Weihnachtsmarkt im Martje-Flohrs-Haus \nDer Weihnachtsmarkt beginnt am Freitag\, den 24. November 2023 im Martje-Flohrs-Haus ab 14:00 Uhr.\nMit Basar\, Punsch\, Waffelstand\, Grillwurst\, Kinderschminken\, Kaffee & Kuchen und vielem mehr.  \nWir freuen uns auf Sie!
URL:https://www.diakonie-kropp.de/event/weihnachtsmarkt-im-martje-flohrs-haus/
LOCATION:Martje-Flohrs-Haus\, Norderring 15\, Garding\, 25836
ATTACH;FMTTYPE=image/jpeg:https://www.diakonie-kropp.de/wp-content/uploads/2023/11/Plakat-Weihnachtsmarkt-MFH-St.-Christian_1.jpg
GEO:54.3308366;8.7835325
X-APPLE-STRUCTURED-LOCATION;VALUE=URI;X-ADDRESS=Martje-Flohrs-Haus Norderring 15 Garding 25836;X-APPLE-RADIUS=500;X-TITLE=Norderring 15:geo:8.7835325,54.3308366
END:VEVENT
END:VCALENDAR